BEGIN:VCALENDAR
VERSION:2.0
PRODID:-//Nevada School of the Arts - ECPv6.15.20//NONSGML v1.0//EN
CALSCALE:GREGORIAN
METHOD:PUBLISH
X-WR-CALNAME:Nevada School of the Arts
X-ORIGINAL-URL:https://www.nevadaschoolofthearts.org
X-WR-CALDESC:Events for Nevada School of the Arts
REFRESH-INTERVAL;VALUE=DURATION:PT1H
X-Robots-Tag:noindex
X-PUBLISHED-TTL:PT1H
BEGIN:VTIMEZONE
TZID:America/Los_Angeles
BEGIN:DAYLIGHT
TZOFFSETFROM:-0800
TZOFFSETTO:-0700
TZNAME:PDT
DTSTART:20230312T100000
END:DAYLIGHT
BEGIN:STANDARD
TZOFFSETFROM:-0700
TZOFFSETTO:-0800
TZNAME:PST
DTSTART:20231105T090000
END:STANDARD
BEGIN:DAYLIGHT
TZOFFSETFROM:-0800
TZOFFSETTO:-0700
TZNAME:PDT
DTSTART:20240310T100000
END:DAYLIGHT
BEGIN:STANDARD
TZOFFSETFROM:-0700
TZOFFSETTO:-0800
TZNAME:PST
DTSTART:20241103T090000
END:STANDARD
BEGIN:DAYLIGHT
TZOFFSETFROM:-0800
TZOFFSETTO:-0700
TZNAME:PDT
DTSTART:20250309T100000
END:DAYLIGHT
BEGIN:STANDARD
TZOFFSETFROM:-0700
TZOFFSETTO:-0800
TZNAME:PST
DTSTART:20251102T090000
END:STANDARD
END:VTIMEZONE
BEGIN:VEVENT
DTSTART;TZID=America/Los_Angeles:20240810T100000
DTEND;TZID=America/Los_Angeles:20240810T140000
DTSTAMP:20260423T201728
CREATED:20240524T193225Z
LAST-MODIFIED:20240813T180439Z
UID:10000033-1723284000-1723298400@www.nevadaschoolofthearts.org
SUMMARY:Visual Arts - Monotype Workshop
DESCRIPTION:
URL:https://www.nevadaschoolofthearts.org/event/visual-arts-monotype-workshop/
LOCATION:Test Site Projects – Hosted by NSA\, 3231 N Decatur Blvd\, Las Vegas\, NV\, 89130\, United States
END:VEVENT
END:VCALENDAR