BEGIN:VCALENDAR
VERSION:2.0
PRODID:-//Nevada School of the Arts - ECPv6.15.20//NONSGML v1.0//EN
CALSCALE:GREGORIAN
METHOD:PUBLISH
X-ORIGINAL-URL:https://www.nevadaschoolofthearts.org
X-WR-CALDESC:Events for Nevada School of the Arts
REFRESH-INTERVAL;VALUE=DURATION:PT1H
X-Robots-Tag:noindex
X-PUBLISHED-TTL:PT1H
BEGIN:VTIMEZONE
TZID:America/Los_Angeles
BEGIN:DAYLIGHT
TZOFFSETFROM:-0800
TZOFFSETTO:-0700
TZNAME:PDT
DTSTART:20230312T100000
END:DAYLIGHT
BEGIN:STANDARD
TZOFFSETFROM:-0700
TZOFFSETTO:-0800
TZNAME:PST
DTSTART:20231105T090000
END:STANDARD
BEGIN:DAYLIGHT
TZOFFSETFROM:-0800
TZOFFSETTO:-0700
TZNAME:PDT
DTSTART:20240310T100000
END:DAYLIGHT
BEGIN:STANDARD
TZOFFSETFROM:-0700
TZOFFSETTO:-0800
TZNAME:PST
DTSTART:20241103T090000
END:STANDARD
BEGIN:DAYLIGHT
TZOFFSETFROM:-0800
TZOFFSETTO:-0700
TZNAME:PDT
DTSTART:20250309T100000
END:DAYLIGHT
BEGIN:STANDARD
TZOFFSETFROM:-0700
TZOFFSETTO:-0800
TZNAME:PST
DTSTART:20251102T090000
END:STANDARD
END:VTIMEZONE
BEGIN:VEVENT
DTSTART;TZID=America/Los_Angeles:20240420T100000
DTEND;TZID=America/Los_Angeles:20240420T110000
DTSTAMP:20260421T034231
CREATED:20240308T011441Z
LAST-MODIFIED:20240418T180446Z
UID:10000009-1713607200-1713610800@www.nevadaschoolofthearts.org
SUMMARY:Masterclass Series: Uli Geissendoerfer\, Piano
DESCRIPTION:German-American pianist\, composer and educator\, Uli Geissendoerfer has been living and working in the US since 1987. In 2009 he moved from his spiritual home New York as musical director for Cirque du Soleil’s Viva Elvis production to Las Vegas. While teaching at UNLV (invited by Dave Loeb)\, his Latin ensemble won six Downbeat awards including 1st place in 2015. In 2011 he initiated a lecture series at the University bringing in over 50 guest artists since. He founded the Jazz Club at the Dispensary Lounge in 2012 (winning Best of Las Vegas)\, which revived the Las Vegas Jazz scene and featured luminaries such as Wynton Marsalis\, Brandon Fields\, Sam Most\, Rick Margitza\, Dick Griffin\, Scott Henderson\, Danny Gottlieb\, George Garzone and many more that performed there with his Trio and Quartet. In 2021 he started a new club\, The Gambit.
URL:https://www.nevadaschoolofthearts.org/event/masterclass-series-uli-geissendoerfer-piano/
LOCATION:Nevada School of the Arts – Recital Hall
CATEGORIES:NSA Masterclass Series
ATTACH;FMTTYPE=image/jpeg:https://www.nevadaschoolofthearts.org/wp-content/uploads/2024/03/Piano-Masterclass-V2-2.jpg
END:VEVENT
BEGIN:VEVENT
DTSTART;TZID=America/Los_Angeles:20240422T180000
DTEND;TZID=America/Los_Angeles:20240422T200000
DTSTAMP:20260421T034231
CREATED:20240411T225431Z
LAST-MODIFIED:20240421T064120Z
UID:10000020-1713808800-1713816000@www.nevadaschoolofthearts.org
SUMMARY:Masterclass Series: Clint Holmes\, Voice
DESCRIPTION:Captivating and versatile\, Clint Holmes reigns as a musical chameleon. With an electrifying stage presence and a voice that resonates powerfully\, he mesmerizes audiences\, painting each performance as a unique masterpiece. From topping the charts with “Playground In My Mind” to receiving a GRAMMY® nomination for his 2017 album “Rendezvous\,” Clint’s 40+ year career showcases his remarkable talent. \nRaised in a musical household by an African-American jazz musician and a classically-trained British opera singer\, Clint embodies the best of both worlds. Las Vegas has embraced him as an institution\, where he headlined his own theater at Harrah’s for seven years and received numerous accolades\, including “Casino Entertainer of the Year”\, and “ Best Singer “ three times.
URL:https://www.nevadaschoolofthearts.org/event/masterclass-series-clint-holmes-voice/
LOCATION:Nevada School of the Arts – Recital Hall
CATEGORIES:NSA Masterclass Series
ATTACH;FMTTYPE=image/png:https://www.nevadaschoolofthearts.org/wp-content/uploads/2024/04/NSA-Masterclass-1-2.png
END:VEVENT
BEGIN:VEVENT
DTSTART;TZID=America/Los_Angeles:20240427T130000
DTEND;TZID=America/Los_Angeles:20240427T140000
DTSTAMP:20260421T034231
CREATED:20240308T011210Z
LAST-MODIFIED:20240418T180401Z
UID:10000007-1714222800-1714226400@www.nevadaschoolofthearts.org
SUMMARY:Masterclass Series: Ka-Wai Yu\, Cello
DESCRIPTION:Dr. Ka-Wai Yu is Associate Professor of Music at Utah Tech University\, where he teaches cello and string chamber music. He previously taught at Eastern Illinois University and Indiana Wesleyan University.  In great demand as a clinician\, Dr. Yu has given master classes in numerous universities and institutions in North America and Asia. He is the Director of the Castle Rock String Camp.  He has served as adjudicator\, held clinics\, guest-conducted and taught regularly at various music competitions\, festivals and workshops in Illinois\, Georgia\, Michigan and Utah\, as well as internationally in Germany and Hong Kong\, among them the SaarburgMusic Festival.  He was a recipient of the Board of Trustee’s Excellence in Education Award at Utah Tech University (ASTA).  He is a former President of Utah’s American String Teachers Association\, Artistic Director of the Cello Society of Southern Utah and directs the annual Cello Festival of Southern Utah that he founded. He has presented in the national and regional conferences of ASTA\, National Association for Music Education\, Historical Keyboard Society of North America and the Southern California School Band and Orchestra Association.
URL:https://www.nevadaschoolofthearts.org/event/masterclass-series-ka-wai-yu-cello/
LOCATION:Nevada School of the Arts – Recital Hall
CATEGORIES:NSA Masterclass Series
ATTACH;FMTTYPE=image/jpeg:https://www.nevadaschoolofthearts.org/wp-content/uploads/2024/03/Cello-Masterclass-V2-1.jpg
END:VEVENT
BEGIN:VEVENT
DTSTART;TZID=America/Los_Angeles:20240430T190000
DTEND;TZID=America/Los_Angeles:20240430T200000
DTSTAMP:20260421T034231
CREATED:20240311T130453Z
LAST-MODIFIED:20240813T190901Z
UID:10000011-1714503600-1714507200@www.nevadaschoolofthearts.org
SUMMARY:Piano Class Performance
DESCRIPTION:
URL:https://www.nevadaschoolofthearts.org/event/piano-class-performance-2/
END:VEVENT
END:VCALENDAR