BEGIN:VCALENDAR
VERSION:2.0
PRODID:-//Nevada School of the Arts - ECPv6.15.20//NONSGML v1.0//EN
CALSCALE:GREGORIAN
METHOD:PUBLISH
X-ORIGINAL-URL:https://www.nevadaschoolofthearts.org
X-WR-CALDESC:Events for Nevada School of the Arts
REFRESH-INTERVAL;VALUE=DURATION:PT1H
X-Robots-Tag:noindex
X-PUBLISHED-TTL:PT1H
BEGIN:VTIMEZONE
TZID:America/Los_Angeles
BEGIN:DAYLIGHT
TZOFFSETFROM:-0800
TZOFFSETTO:-0700
TZNAME:PDT
DTSTART:20260308T100000
END:DAYLIGHT
BEGIN:STANDARD
TZOFFSETFROM:-0700
TZOFFSETTO:-0800
TZNAME:PST
DTSTART:20261101T090000
END:STANDARD
BEGIN:DAYLIGHT
TZOFFSETFROM:-0800
TZOFFSETTO:-0700
TZNAME:PDT
DTSTART:20270314T100000
END:DAYLIGHT
BEGIN:STANDARD
TZOFFSETFROM:-0700
TZOFFSETTO:-0800
TZNAME:PST
DTSTART:20271107T090000
END:STANDARD
BEGIN:DAYLIGHT
TZOFFSETFROM:-0800
TZOFFSETTO:-0700
TZNAME:PDT
DTSTART:20280312T100000
END:DAYLIGHT
BEGIN:STANDARD
TZOFFSETFROM:-0700
TZOFFSETTO:-0800
TZNAME:PST
DTSTART:20281105T090000
END:STANDARD
BEGIN:DAYLIGHT
TZOFFSETFROM:-0800
TZOFFSETTO:-0700
TZNAME:PDT
DTSTART:20290311T100000
END:DAYLIGHT
BEGIN:STANDARD
TZOFFSETFROM:-0700
TZOFFSETTO:-0800
TZNAME:PST
DTSTART:20291104T090000
END:STANDARD
BEGIN:DAYLIGHT
TZOFFSETFROM:-0800
TZOFFSETTO:-0700
TZNAME:PDT
DTSTART:20300310T100000
END:DAYLIGHT
BEGIN:STANDARD
TZOFFSETFROM:-0700
TZOFFSETTO:-0800
TZNAME:PST
DTSTART:20301103T090000
END:STANDARD
END:VTIMEZONE
BEGIN:VEVENT
DTSTART;VALUE=DATE:20270808
DTEND;VALUE=DATE:20270809
DTSTAMP:20260421T142412
CREATED:20240516T164727Z
LAST-MODIFIED:20240813T194238Z
UID:10000146-1817683200-1817769599@www.nevadaschoolofthearts.org
SUMMARY:End of Summer Session
DESCRIPTION:
URL:https://www.nevadaschoolofthearts.org/event/end-of-summer-session-2/2027-08-08/
LOCATION:NV
END:VEVENT
BEGIN:VEVENT
DTSTART;VALUE=DATE:20270809
DTEND;VALUE=DATE:20270810
DTSTAMP:20260421T142412
CREATED:20240516T164459Z
LAST-MODIFIED:20240813T194221Z
UID:10000141-1817769600-1817855999@www.nevadaschoolofthearts.org
SUMMARY:Start of Fall Semester
DESCRIPTION:
URL:https://www.nevadaschoolofthearts.org/event/end-of-summer-session/2027-08-09/
LOCATION:NV
END:VEVENT
BEGIN:VEVENT
DTSTART;VALUE=DATE:20271217
DTEND;VALUE=DATE:20271218
DTSTAMP:20260421T142412
CREATED:20240813T184627Z
LAST-MODIFIED:20240813T194210Z
UID:10000181-1829001600-1829087999@www.nevadaschoolofthearts.org
SUMMARY:End of Fall Semester
DESCRIPTION:
URL:https://www.nevadaschoolofthearts.org/event/end-of-fall-semester/2027-12-17/
LOCATION:NV
END:VEVENT
BEGIN:VEVENT
DTSTART;VALUE=DATE:20280102
DTEND;VALUE=DATE:20280104
DTSTAMP:20260421T142412
CREATED:20240813T184446Z
LAST-MODIFIED:20240813T194200Z
UID:10000176-1830466800-1830553199@www.nevadaschoolofthearts.org
SUMMARY:Start of Spring Semester
DESCRIPTION:
URL:https://www.nevadaschoolofthearts.org/event/start-of-summer-session-3/2028-01-03/
LOCATION:NV
END:VEVENT
BEGIN:VEVENT
DTSTART;VALUE=DATE:20280526
DTEND;VALUE=DATE:20280527
DTSTAMP:20260421T142412
CREATED:20240503T183320Z
LAST-MODIFIED:20240813T194304Z
UID:10000166-1842912000-1842998399@www.nevadaschoolofthearts.org
SUMMARY:End of Spring Semester
DESCRIPTION:
URL:https://www.nevadaschoolofthearts.org/event/end-of-spring-semester/2028-05-26/
LOCATION:NV
END:VEVENT
BEGIN:VEVENT
DTSTART;VALUE=DATE:20280813
DTEND;VALUE=DATE:20280814
DTSTAMP:20260421T142413
CREATED:20240516T164727Z
LAST-MODIFIED:20240813T194238Z
UID:10000147-1849737600-1849823999@www.nevadaschoolofthearts.org
SUMMARY:End of Summer Session
DESCRIPTION:
URL:https://www.nevadaschoolofthearts.org/event/end-of-summer-session-2/2028-08-13/
LOCATION:NV
END:VEVENT
BEGIN:VEVENT
DTSTART;VALUE=DATE:20280814
DTEND;VALUE=DATE:20280815
DTSTAMP:20260421T142413
CREATED:20240516T164459Z
LAST-MODIFIED:20240813T194221Z
UID:10000142-1849824000-1849910399@www.nevadaschoolofthearts.org
SUMMARY:Start of Fall Semester
DESCRIPTION:
URL:https://www.nevadaschoolofthearts.org/event/end-of-summer-session/2028-08-14/
LOCATION:NV
END:VEVENT
BEGIN:VEVENT
DTSTART;VALUE=DATE:20281215
DTEND;VALUE=DATE:20281216
DTSTAMP:20260421T142413
CREATED:20240813T184627Z
LAST-MODIFIED:20240813T194210Z
UID:10000182-1860451200-1860537599@www.nevadaschoolofthearts.org
SUMMARY:End of Fall Semester
DESCRIPTION:
URL:https://www.nevadaschoolofthearts.org/event/end-of-fall-semester/2028-12-15/
LOCATION:NV
END:VEVENT
BEGIN:VEVENT
DTSTART;VALUE=DATE:20281231
DTEND;VALUE=DATE:20290102
DTSTAMP:20260421T142413
CREATED:20240813T184446Z
LAST-MODIFIED:20240813T194200Z
UID:10000177-1861916400-1862002799@www.nevadaschoolofthearts.org
SUMMARY:Start of Spring Semester
DESCRIPTION:
URL:https://www.nevadaschoolofthearts.org/event/start-of-summer-session-3/2029-01-01/
LOCATION:NV
END:VEVENT
BEGIN:VEVENT
DTSTART;VALUE=DATE:20290525
DTEND;VALUE=DATE:20290526
DTSTAMP:20260421T142413
CREATED:20240503T183320Z
LAST-MODIFIED:20240813T194304Z
UID:10000167-1874361600-1874447999@www.nevadaschoolofthearts.org
SUMMARY:End of Spring Semester
DESCRIPTION:
URL:https://www.nevadaschoolofthearts.org/event/end-of-spring-semester/2029-05-25/
LOCATION:NV
END:VEVENT
BEGIN:VEVENT
DTSTART;VALUE=DATE:20290812
DTEND;VALUE=DATE:20290813
DTSTAMP:20260421T142413
CREATED:20240516T164727Z
LAST-MODIFIED:20240813T194238Z
UID:10000148-1881187200-1881273599@www.nevadaschoolofthearts.org
SUMMARY:End of Summer Session
DESCRIPTION:
URL:https://www.nevadaschoolofthearts.org/event/end-of-summer-session-2/2029-08-12/
LOCATION:NV
END:VEVENT
BEGIN:VEVENT
DTSTART;VALUE=DATE:20290813
DTEND;VALUE=DATE:20290814
DTSTAMP:20260421T142413
CREATED:20240516T164459Z
LAST-MODIFIED:20240813T194221Z
UID:10000143-1881273600-1881359999@www.nevadaschoolofthearts.org
SUMMARY:Start of Fall Semester
DESCRIPTION:
URL:https://www.nevadaschoolofthearts.org/event/end-of-summer-session/2029-08-13/
LOCATION:NV
END:VEVENT
END:VCALENDAR