BEGIN:VCALENDAR
VERSION:2.0
PRODID:-//Nevada School of the Arts - ECPv6.15.20//NONSGML v1.0//EN
CALSCALE:GREGORIAN
METHOD:PUBLISH
X-WR-CALNAME:Nevada School of the Arts
X-ORIGINAL-URL:https://www.nevadaschoolofthearts.org
X-WR-CALDESC:Events for Nevada School of the Arts
REFRESH-INTERVAL;VALUE=DURATION:PT1H
X-Robots-Tag:noindex
X-PUBLISHED-TTL:PT1H
BEGIN:VTIMEZONE
TZID:America/Los_Angeles
BEGIN:DAYLIGHT
TZOFFSETFROM:-0800
TZOFFSETTO:-0700
TZNAME:PDT
DTSTART:20230312T100000
END:DAYLIGHT
BEGIN:STANDARD
TZOFFSETFROM:-0700
TZOFFSETTO:-0800
TZNAME:PST
DTSTART:20231105T090000
END:STANDARD
BEGIN:DAYLIGHT
TZOFFSETFROM:-0800
TZOFFSETTO:-0700
TZNAME:PDT
DTSTART:20240310T100000
END:DAYLIGHT
BEGIN:STANDARD
TZOFFSETFROM:-0700
TZOFFSETTO:-0800
TZNAME:PST
DTSTART:20241103T090000
END:STANDARD
BEGIN:DAYLIGHT
TZOFFSETFROM:-0800
TZOFFSETTO:-0700
TZNAME:PDT
DTSTART:20250309T100000
END:DAYLIGHT
BEGIN:STANDARD
TZOFFSETFROM:-0700
TZOFFSETTO:-0800
TZNAME:PST
DTSTART:20251102T090000
END:STANDARD
END:VTIMEZONE
BEGIN:VEVENT
DTSTART;TZID=America/Los_Angeles:20240711T120000
DTEND;TZID=America/Los_Angeles:20240711T130000
DTSTAMP:20260424T194851
CREATED:20240603T213527Z
LAST-MODIFIED:20240813T180609Z
UID:10000074-1720699200-1720702800@www.nevadaschoolofthearts.org
SUMMARY:Beginner's Summer Piano Ensemble
DESCRIPTION:
URL:https://www.nevadaschoolofthearts.org/event/beginners-summer-piano-ensemble/2024-07-11/
END:VEVENT
BEGIN:VEVENT
DTSTART;TZID=America/Los_Angeles:20240711T100000
DTEND;TZID=America/Los_Angeles:20240711T110000
DTSTAMP:20260424T194851
CREATED:20240603T213421Z
LAST-MODIFIED:20240813T180610Z
UID:10000066-1720692000-1720695600@www.nevadaschoolofthearts.org
SUMMARY:Intermediate Summer Piano Ensemble
DESCRIPTION:
URL:https://www.nevadaschoolofthearts.org/event/intermediate-summer-piano-ensemble/2024-07-11/
END:VEVENT
BEGIN:VEVENT
DTSTART;TZID=America/Los_Angeles:20240711T090000
DTEND;TZID=America/Los_Angeles:20240711T100000
DTSTAMP:20260424T194851
CREATED:20240603T213311Z
LAST-MODIFIED:20240813T180610Z
UID:10000058-1720688400-1720692000@www.nevadaschoolofthearts.org
SUMMARY:Advanced Summer Piano Ensemble
DESCRIPTION:
URL:https://www.nevadaschoolofthearts.org/event/advanced-summer-piano-ensemble/2024-07-11/
LOCATION:Nevada School of the Arts\, 401 S 4th st\, las vegas\, NV\, 89101\, United States
END:VEVENT
BEGIN:VEVENT
DTSTART;TZID=America/Los_Angeles:20240707T100000
DTEND;TZID=America/Los_Angeles:20240707T140000
DTSTAMP:20260424T194851
CREATED:20240524T193718Z
LAST-MODIFIED:20240813T180441Z
UID:10000035-1720346400-1720360800@www.nevadaschoolofthearts.org
SUMMARY:Visual Arts: Collage Techniques - Tear\, Cut\, Color and Paste
DESCRIPTION:
URL:https://www.nevadaschoolofthearts.org/event/visual-arts-collage-techniques-tear-cut-color-and-paste/2024-07-07/
LOCATION:Nevada School of the Arts\, 401 S 4th st\, las vegas\, NV\, 89101\, United States
END:VEVENT
BEGIN:VEVENT
DTSTART;TZID=America/Los_Angeles:20240704T120000
DTEND;TZID=America/Los_Angeles:20240704T130000
DTSTAMP:20260424T194851
CREATED:20240603T213527Z
LAST-MODIFIED:20240813T180609Z
UID:10000073-1720094400-1720098000@www.nevadaschoolofthearts.org
SUMMARY:Beginner's Summer Piano Ensemble
DESCRIPTION:
URL:https://www.nevadaschoolofthearts.org/event/beginners-summer-piano-ensemble/2024-07-04/
END:VEVENT
BEGIN:VEVENT
DTSTART;TZID=America/Los_Angeles:20240704T100000
DTEND;TZID=America/Los_Angeles:20240704T110000
DTSTAMP:20260424T194851
CREATED:20240603T213421Z
LAST-MODIFIED:20240813T180610Z
UID:10000065-1720087200-1720090800@www.nevadaschoolofthearts.org
SUMMARY:Intermediate Summer Piano Ensemble
DESCRIPTION:
URL:https://www.nevadaschoolofthearts.org/event/intermediate-summer-piano-ensemble/2024-07-04/
END:VEVENT
BEGIN:VEVENT
DTSTART;TZID=America/Los_Angeles:20240704T090000
DTEND;TZID=America/Los_Angeles:20240704T100000
DTSTAMP:20260424T194851
CREATED:20240603T213311Z
LAST-MODIFIED:20240813T180610Z
UID:10000057-1720083600-1720087200@www.nevadaschoolofthearts.org
SUMMARY:Advanced Summer Piano Ensemble
DESCRIPTION:
URL:https://www.nevadaschoolofthearts.org/event/advanced-summer-piano-ensemble/2024-07-04/
LOCATION:Nevada School of the Arts\, 401 S 4th st\, las vegas\, NV\, 89101\, United States
END:VEVENT
BEGIN:VEVENT
DTSTART;TZID=America/Los_Angeles:20240629T100000
DTEND;TZID=America/Los_Angeles:20240629T140000
DTSTAMP:20260424T194851
CREATED:20240524T194200Z
LAST-MODIFIED:20240813T180440Z
UID:10000039-1719655200-1719669600@www.nevadaschoolofthearts.org
SUMMARY:Visual Arts: Drawing Techniques Workshop Series : Line + Mark Making + Form + Composition
DESCRIPTION:
URL:https://www.nevadaschoolofthearts.org/event/visual-arts-drawing-techniques-workshop-series-line-mark-making-form-composition/2024-06-29/
LOCATION:Nevada School of the Arts\, 401 S 4th st\, las vegas\, NV\, 89101\, United States
END:VEVENT
BEGIN:VEVENT
DTSTART;TZID=America/Los_Angeles:20240627T120000
DTEND;TZID=America/Los_Angeles:20240627T130000
DTSTAMP:20260424T194851
CREATED:20240603T213527Z
LAST-MODIFIED:20240813T180609Z
UID:10000072-1719489600-1719493200@www.nevadaschoolofthearts.org
SUMMARY:Beginner's Summer Piano Ensemble
DESCRIPTION:
URL:https://www.nevadaschoolofthearts.org/event/beginners-summer-piano-ensemble/2024-06-27/
END:VEVENT
BEGIN:VEVENT
DTSTART;TZID=America/Los_Angeles:20240627T100000
DTEND;TZID=America/Los_Angeles:20240627T110000
DTSTAMP:20260424T194851
CREATED:20240603T213421Z
LAST-MODIFIED:20240813T180610Z
UID:10000064-1719482400-1719486000@www.nevadaschoolofthearts.org
SUMMARY:Intermediate Summer Piano Ensemble
DESCRIPTION:
URL:https://www.nevadaschoolofthearts.org/event/intermediate-summer-piano-ensemble/2024-06-27/
END:VEVENT
BEGIN:VEVENT
DTSTART;TZID=America/Los_Angeles:20240627T090000
DTEND;TZID=America/Los_Angeles:20240627T100000
DTSTAMP:20260424T194851
CREATED:20240603T213311Z
LAST-MODIFIED:20240813T180610Z
UID:10000056-1719478800-1719482400@www.nevadaschoolofthearts.org
SUMMARY:Advanced Summer Piano Ensemble
DESCRIPTION:
URL:https://www.nevadaschoolofthearts.org/event/advanced-summer-piano-ensemble/2024-06-27/
LOCATION:Nevada School of the Arts\, 401 S 4th st\, las vegas\, NV\, 89101\, United States
END:VEVENT
BEGIN:VEVENT
DTSTART;TZID=America/Los_Angeles:20240622T100000
DTEND;TZID=America/Los_Angeles:20240622T140000
DTSTAMP:20260424T194851
CREATED:20240524T194200Z
LAST-MODIFIED:20240813T180440Z
UID:10000038-1719050400-1719064800@www.nevadaschoolofthearts.org
SUMMARY:Visual Arts: Drawing Techniques Workshop Series : Line + Mark Making + Form + Composition
DESCRIPTION:
URL:https://www.nevadaschoolofthearts.org/event/visual-arts-drawing-techniques-workshop-series-line-mark-making-form-composition/2024-06-22/
LOCATION:Nevada School of the Arts\, 401 S 4th st\, las vegas\, NV\, 89101\, United States
END:VEVENT
BEGIN:VEVENT
DTSTART;TZID=America/Los_Angeles:20240620T120000
DTEND;TZID=America/Los_Angeles:20240620T130000
DTSTAMP:20260424T194851
CREATED:20240603T213527Z
LAST-MODIFIED:20240813T180609Z
UID:10000071-1718884800-1718888400@www.nevadaschoolofthearts.org
SUMMARY:Beginner's Summer Piano Ensemble
DESCRIPTION:
URL:https://www.nevadaschoolofthearts.org/event/beginners-summer-piano-ensemble/2024-06-20/
END:VEVENT
BEGIN:VEVENT
DTSTART;TZID=America/Los_Angeles:20240620T100000
DTEND;TZID=America/Los_Angeles:20240620T140000
DTSTAMP:20260424T194851
CREATED:20240524T194200Z
LAST-MODIFIED:20240813T180440Z
UID:10000037-1718877600-1718892000@www.nevadaschoolofthearts.org
SUMMARY:Visual Arts: Drawing Techniques Workshop Series : Line + Mark Making + Form + Composition
DESCRIPTION:
URL:https://www.nevadaschoolofthearts.org/event/visual-arts-drawing-techniques-workshop-series-line-mark-making-form-composition/2024-06-20/
LOCATION:Nevada School of the Arts\, 401 S 4th st\, las vegas\, NV\, 89101\, United States
END:VEVENT
BEGIN:VEVENT
DTSTART;TZID=America/Los_Angeles:20240620T100000
DTEND;TZID=America/Los_Angeles:20240620T110000
DTSTAMP:20260424T194851
CREATED:20240603T213421Z
LAST-MODIFIED:20240813T180610Z
UID:10000063-1718877600-1718881200@www.nevadaschoolofthearts.org
SUMMARY:Intermediate Summer Piano Ensemble
DESCRIPTION:
URL:https://www.nevadaschoolofthearts.org/event/intermediate-summer-piano-ensemble/2024-06-20/
END:VEVENT
BEGIN:VEVENT
DTSTART;TZID=America/Los_Angeles:20240620T090000
DTEND;TZID=America/Los_Angeles:20240620T100000
DTSTAMP:20260424T194851
CREATED:20240603T213311Z
LAST-MODIFIED:20240813T180610Z
UID:10000055-1718874000-1718877600@www.nevadaschoolofthearts.org
SUMMARY:Advanced Summer Piano Ensemble
DESCRIPTION:
URL:https://www.nevadaschoolofthearts.org/event/advanced-summer-piano-ensemble/2024-06-20/
LOCATION:Nevada School of the Arts\, 401 S 4th st\, las vegas\, NV\, 89101\, United States
END:VEVENT
BEGIN:VEVENT
DTSTART;TZID=America/Los_Angeles:20240614T100000
DTEND;TZID=America/Los_Angeles:20240614T140000
DTSTAMP:20260424T194851
CREATED:20240524T193718Z
LAST-MODIFIED:20240813T180441Z
UID:10000034-1718359200-1718373600@www.nevadaschoolofthearts.org
SUMMARY:Visual Arts: Collage Techniques - Tear\, Cut\, Color and Paste
DESCRIPTION:
URL:https://www.nevadaschoolofthearts.org/event/visual-arts-collage-techniques-tear-cut-color-and-paste/2024-06-14/
LOCATION:Nevada School of the Arts\, 401 S 4th st\, las vegas\, NV\, 89101\, United States
END:VEVENT
BEGIN:VEVENT
DTSTART;TZID=America/Los_Angeles:20240613T120000
DTEND;TZID=America/Los_Angeles:20240613T130000
DTSTAMP:20260424T194851
CREATED:20240603T213527Z
LAST-MODIFIED:20240813T180609Z
UID:10000070-1718280000-1718283600@www.nevadaschoolofthearts.org
SUMMARY:Beginner's Summer Piano Ensemble
DESCRIPTION:
URL:https://www.nevadaschoolofthearts.org/event/beginners-summer-piano-ensemble/2024-06-13/
END:VEVENT
BEGIN:VEVENT
DTSTART;TZID=America/Los_Angeles:20240613T100000
DTEND;TZID=America/Los_Angeles:20240613T110000
DTSTAMP:20260424T194851
CREATED:20240603T213421Z
LAST-MODIFIED:20240813T180610Z
UID:10000062-1718272800-1718276400@www.nevadaschoolofthearts.org
SUMMARY:Intermediate Summer Piano Ensemble
DESCRIPTION:
URL:https://www.nevadaschoolofthearts.org/event/intermediate-summer-piano-ensemble/2024-06-13/
END:VEVENT
BEGIN:VEVENT
DTSTART;TZID=America/Los_Angeles:20240613T090000
DTEND;TZID=America/Los_Angeles:20240613T100000
DTSTAMP:20260424T194851
CREATED:20240603T213311Z
LAST-MODIFIED:20240813T180610Z
UID:10000054-1718269200-1718272800@www.nevadaschoolofthearts.org
SUMMARY:Advanced Summer Piano Ensemble
DESCRIPTION:
URL:https://www.nevadaschoolofthearts.org/event/advanced-summer-piano-ensemble/2024-06-13/
LOCATION:Nevada School of the Arts\, 401 S 4th st\, las vegas\, NV\, 89101\, United States
END:VEVENT
BEGIN:VEVENT
DTSTART;VALUE=DATE:20240609
DTEND;VALUE=DATE:20240610
DTSTAMP:20260424T194851
CREATED:20240529T232519Z
LAST-MODIFIED:20240529T232519Z
UID:10000041-1717891200-1717977599@www.nevadaschoolofthearts.org
SUMMARY:Finding Magic
DESCRIPTION:
URL:https://www.nevadaschoolofthearts.org/event/finding-magic/
LOCATION:Nevada School of the Arts\, 401 S 4th st\, las vegas\, NV\, 89101\, United States
END:VEVENT
BEGIN:VEVENT
DTSTART;TZID=America/Los_Angeles:20240528T190000
DTEND;TZID=America/Los_Angeles:20240528T200000
DTSTAMP:20260424T194851
CREATED:20240311T130507Z
LAST-MODIFIED:20240813T222545Z
UID:10000012-1716922800-1716926400@www.nevadaschoolofthearts.org
SUMMARY:Piano Class Performance
DESCRIPTION:
URL:https://www.nevadaschoolofthearts.org/event/piano-class-performance-3/2024-05-28/
LOCATION:Nevada School of the Arts – Recital Hall
END:VEVENT
BEGIN:VEVENT
DTSTART;TZID=America/Los_Angeles:20240528T090000
DTEND;TZID=America/Los_Angeles:20240601T120000
DTSTAMP:20260424T194851
CREATED:20240516T164231Z
LAST-MODIFIED:20240813T180638Z
UID:10000030-1716886800-1717243200@www.nevadaschoolofthearts.org
SUMMARY:Summer Chamber Music Intensive
DESCRIPTION:Looking for Trios\, Quartets\, Quintets\, Piano Duets/Duos\, etc.\, to participate in this unique instructional camp setting.
URL:https://www.nevadaschoolofthearts.org/event/summer-chamber-music-intensive/
LOCATION:Nevada School of the Arts\, 401 S 4th st\, las vegas\, NV\, 89101\, United States
END:VEVENT
BEGIN:VEVENT
DTSTART;VALUE=DATE:20240525
DTEND;VALUE=DATE:20240526
DTSTAMP:20260424T194851
CREATED:20240503T183344Z
LAST-MODIFIED:20240813T194249Z
UID:10000168-1716595200-1716681599@www.nevadaschoolofthearts.org
SUMMARY:Start of Summer Session
DESCRIPTION:
URL:https://www.nevadaschoolofthearts.org/event/start-of-summer-session/
END:VEVENT
BEGIN:VEVENT
DTSTART;VALUE=DATE:20240524
DTEND;VALUE=DATE:20240525
DTSTAMP:20260424T194851
CREATED:20240503T183320Z
LAST-MODIFIED:20240813T194304Z
UID:10000162-1716508800-1716595199@www.nevadaschoolofthearts.org
SUMMARY:End of Spring Semester
DESCRIPTION:
URL:https://www.nevadaschoolofthearts.org/event/end-of-spring-semester/2024-05-24/
END:VEVENT
BEGIN:VEVENT
DTSTART;TZID=America/Los_Angeles:20240519T130000
DTEND;TZID=America/Los_Angeles:20240519T140000
DTSTAMP:20260424T194851
CREATED:20240503T183247Z
LAST-MODIFIED:20240503T183247Z
UID:10000027-1716123600-1716127200@www.nevadaschoolofthearts.org
SUMMARY:Voice Recital
DESCRIPTION:
URL:https://www.nevadaschoolofthearts.org/event/voice-recital/
LOCATION:Nevada School of the Arts – Recital Hall
END:VEVENT
BEGIN:VEVENT
DTSTART;TZID=America/Los_Angeles:20240518T150000
DTEND;TZID=America/Los_Angeles:20240518T160000
DTSTAMP:20260424T194851
CREATED:20240503T183204Z
LAST-MODIFIED:20240813T180911Z
UID:10000026-1716044400-1716048000@www.nevadaschoolofthearts.org
SUMMARY:Traditional Strings Recital
DESCRIPTION:
URL:https://www.nevadaschoolofthearts.org/event/traditional-strings-recital/
LOCATION:Nevada School of the Arts – Recital Hall
END:VEVENT
BEGIN:VEVENT
DTSTART;TZID=America/Los_Angeles:20240512T153000
DTEND;TZID=America/Los_Angeles:20240512T163000
DTSTAMP:20260424T194851
CREATED:20240503T183104Z
LAST-MODIFIED:20240813T180831Z
UID:10000025-1715527800-1715531400@www.nevadaschoolofthearts.org
SUMMARY:NASCO: Chamber Orchestra Concert
DESCRIPTION:
URL:https://www.nevadaschoolofthearts.org/event/nasco-chamber-orchestra-concert/
LOCATION:Nevada School of the Arts – Recital Hall
CATEGORIES:NSA Masterclass Series
END:VEVENT
BEGIN:VEVENT
DTSTART;TZID=America/Los_Angeles:20240511T100000
DTEND;TZID=America/Los_Angeles:20240511T110000
DTSTAMP:20260424T194851
CREATED:20240503T182843Z
LAST-MODIFIED:20240813T180912Z
UID:10000024-1715421600-1715425200@www.nevadaschoolofthearts.org
SUMMARY:Studio's Cello Recital
DESCRIPTION:
URL:https://www.nevadaschoolofthearts.org/event/studios-cello-recital/
LOCATION:Nevada School of the Arts – Recital Hall
END:VEVENT
BEGIN:VEVENT
DTSTART;TZID=America/Los_Angeles:20240504T103000
DTEND;TZID=America/Los_Angeles:20240504T123000
DTSTAMP:20260424T194851
CREATED:20240502T221315Z
LAST-MODIFIED:20240813T180801Z
UID:10000023-1714818600-1714825800@www.nevadaschoolofthearts.org
SUMMARY:Spring 2024 Piano Recital
DESCRIPTION:Join Nevada School of the Arts for a Piano Recital from our incredible students\, Featuring the Spring 2024 class and their proud teachers. Come to NSA’s Recital Hall and cheer them on as they show off what they have learned this semester. Admission is free and on a first come first serve basis.
URL:https://www.nevadaschoolofthearts.org/event/spring-2024-piano-recital/
LOCATION:Nevada School of the Arts – Recital Hall
ATTACH;FMTTYPE=image/jpeg:https://www.nevadaschoolofthearts.org/wp-content/uploads/2024/05/Mujtaba-Shahzad-5-scaled.jpg
END:VEVENT
END:VCALENDAR