BEGIN:VCALENDAR
VERSION:2.0
PRODID:-//Nevada School of the Arts - ECPv6.15.20//NONSGML v1.0//EN
CALSCALE:GREGORIAN
METHOD:PUBLISH
X-WR-CALNAME:Nevada School of the Arts
X-ORIGINAL-URL:https://www.nevadaschoolofthearts.org
X-WR-CALDESC:Events for Nevada School of the Arts
REFRESH-INTERVAL;VALUE=DURATION:PT1H
X-Robots-Tag:noindex
X-PUBLISHED-TTL:PT1H
BEGIN:VTIMEZONE
TZID:America/Los_Angeles
BEGIN:DAYLIGHT
TZOFFSETFROM:-0800
TZOFFSETTO:-0700
TZNAME:PDT
DTSTART:20230312T100000
END:DAYLIGHT
BEGIN:STANDARD
TZOFFSETFROM:-0700
TZOFFSETTO:-0800
TZNAME:PST
DTSTART:20231105T090000
END:STANDARD
BEGIN:DAYLIGHT
TZOFFSETFROM:-0800
TZOFFSETTO:-0700
TZNAME:PDT
DTSTART:20240310T100000
END:DAYLIGHT
BEGIN:STANDARD
TZOFFSETFROM:-0700
TZOFFSETTO:-0800
TZNAME:PST
DTSTART:20241103T090000
END:STANDARD
BEGIN:DAYLIGHT
TZOFFSETFROM:-0800
TZOFFSETTO:-0700
TZNAME:PDT
DTSTART:20250309T100000
END:DAYLIGHT
BEGIN:STANDARD
TZOFFSETFROM:-0700
TZOFFSETTO:-0800
TZNAME:PST
DTSTART:20251102T090000
END:STANDARD
END:VTIMEZONE
BEGIN:VEVENT
DTSTART;TZID=America/Los_Angeles:20240803T130000
DTEND;TZID=America/Los_Angeles:20240803T143000
DTSTAMP:20260423T184434
CREATED:20240308T011316Z
LAST-MODIFIED:20240718T225121Z
UID:10000008-1722690000-1722695400@www.nevadaschoolofthearts.org
SUMMARY:International Music Competition - Winner's Concert
DESCRIPTION:Get ready for an epic night showcasing the incredible talents of the winners from \nNSA’s International Music Competition.
URL:https://www.nevadaschoolofthearts.org/event/international-music-competition-winners-concert/
LOCATION:United States
ATTACH;FMTTYPE=image/jpeg:https://www.nevadaschoolofthearts.org/wp-content/uploads/2024/03/Int-Music-Comp-Tile.jpg
END:VEVENT
END:VCALENDAR